BEGIN:VCALENDAR
VERSION:2.0
PRODID:-//eventon.com NONSGML v1.0//EN
CALSCALE:GREGORIAN
METHOD:PUBLISH
BEGIN:VEVENT
UID:69e4ebb893ff0
DTSTAMP:20260419T145032Z
DTSTART:20250725T160000Z
DTEND:20250725T164500Z
LOCATION:Electric Circus
SUMMARY:Daberstedter Ghettobeats feat. Frank Fairlight
DESCRIPTION:Seit über 20 Jahren basteln die Daberstedter Ghettobeats im gl
 eichnamigen Erfurter Stadtteil an rohen\,  tanzbaren Beats\,  die sich zwis
 chen Dub\,  House und kreativen Sample-Spielereien bewegen. Ihr Live-Setup 
 besteht aus einer faszinierenden Mischung von analogen Drummachines und Sam
 plern – direkt\,  verspielt und immer mit ordentlich Bass im Gepäck. Die
 se Kombination schafft[..]\nhttps://auerworld-festival.de/events/2025-daber
 stedter-ghettobeats-feat-frank-fairlight/
URL:https://auerworld-festival.de/events/2025-daberstedter-ghettobeats-feat-frank-fairlight/
END:VEVENT
END:VCALENDAR