BEGIN:VCALENDAR
VERSION:2.0
PRODID:-//eventon.com NONSGML v1.0//EN
CALSCALE:GREGORIAN
METHOD:PUBLISH
BEGIN:VEVENT
UID:69e746a60d8c7
DTSTAMP:20260421T094302Z
DTSTART:20250726T120000Z
DTEND:20250726T133000Z
LOCATION:Jurte
SUMMARY:Rechtsruck in Thüringen (und anderswo) - Was machen wir denn jetzt?
DESCRIPTION:Wir laden euch herzlich zu einem interaktiven Workshop ein\,  b
 ei dem wir uns mit den aktuellen gesellschaftlichen Entwicklungen auseinand
 ersetzen. Unser Fokus liegt besonders auf Thüringen\,  doch wir freuen uns
  auch auf Perspektiven und Erfahrungen aus anderen Regionen. Wir starten mi
 t einem kurzen Impuls und einem Blick auf die gesellschaftlichen Entwicklun
 gen.[..]\nhttps://auerworld-festival.de/events/2025-rechtsruck-in-thueringe
 n-und-anderswo-was-machen-wir-denn-jetzt/
URL:https://auerworld-festival.de/events/2025-rechtsruck-in-thueringen-und-anderswo-was-machen-wir-denn-jetzt/
END:VEVENT
END:VCALENDAR