BEGIN:VCALENDAR
VERSION:2.0
PRODID:-//eventon.com NONSGML v1.0//EN
CALSCALE:GREGORIAN
METHOD:PUBLISH
BEGIN:VEVENT
UID:69e4ebf773b2c
DTSTAMP:20260419T145135Z
DTSTART:20250726T075500Z
DTEND:20250726T100000Z
LOCATION:Infostand
SUMMARY:Wildpflanzen- und Schmetterlingswanderung
DESCRIPTION:Vom Treffpunkt am Infostand aus laufen wir zu den nahegelegen F
 inne-Hängen. Auf deren flachgründigen Muschelkalkböden sind an die somme
 rliche Trockenheit angepasste\,  besondere Vegetationsgesellschaften mit za
 hlreichen seltenen und gefährdeten Pflanzenarten zu finden Diese sogenannt
 en Steppenrasen sind als Kulturbiotope aus der jahrhundertelangen\,  extens
 iven Beweidung mit Schafen und Ziegen hervorgegangen und durch die[..]\nhtt
 ps://auerworld-festival.de/events/2025-wildpflanzen-und-schmetterlingswande
 rung/
URL:https://auerworld-festival.de/events/2025-wildpflanzen-und-schmetterlingswanderung/
END:VEVENT
END:VCALENDAR