BEGIN:VCALENDAR
VERSION:2.0
PRODID:-//eventon.com NONSGML v1.0//EN
CALSCALE:GREGORIAN
METHOD:PUBLISH
BEGIN:VEVENT
UID:69e501b9737e0
DTSTAMP:20260419T162425Z
DTSTART:20250727T090000Z
DTEND:20250727T100000Z
LOCATION:Sonnenplatz
SUMMARY:Somatic Soundhealing
DESCRIPTION:Entdecke die magische Welt des Soundhealings auf unserem Festiv
 al-Workshop! Lass dich von den heilenden Klängen mitnehmen auf eine Reise 
 zu innerem Frieden und tiefer Entspannung. In diesem Workshop erlebst du\, 
  wie Klangschalen\,  Gongs und andere Instrumente sanfte Schwingungen erzeu
 gen\,  die deinen Geist beruhigen und deinen Körper harmonisieren. Der Wor
 kshop führen[..]\nhttps://auerworld-festival.de/events/2025-somatic-soundh
 ealing/
URL:https://auerworld-festival.de/events/2025-somatic-soundhealing/
END:VEVENT
END:VCALENDAR