BEGIN:VCALENDAR
VERSION:2.0
PRODID:-//eventon.com NONSGML v1.0//EN
CALSCALE:GREGORIAN
METHOD:PUBLISH
BEGIN:VEVENT
UID:69e5f6c599645
DTSTAMP:20260420T094957Z
DTSTART:20250725T120000Z
DTEND:20250725T130000Z
LOCATION:Theaterbühne
SUMMARY:„Vergiss das Beste nicht“
DESCRIPTION:Beim Auerworld Festival darf ein besonderes Highlight nicht feh
 len: Martin Hinder mit seinem Bauchladentheater\,  das die ganze Familie be
 geistert. In seinem kleinen\,  aber feinen Bühnenformat finden eigene Gesc
 hichten\,  Sagen und Märchen aus aller Welt ihren Platz. Martin Hinder erz
 ählt auf eine spannende und unterhaltsame Weise\,  die sowohl Kinder als a
 uch[..]\nhttps://auerworld-festival.de/en/events/2025-vergiss-das-beste-nic
 ht/
URL:https://auerworld-festival.de/en/events/2025-vergiss-das-beste-nicht/
END:VEVENT
END:VCALENDAR