BEGIN:VCALENDAR
VERSION:2.0
PRODID:-//eventon.com NONSGML v1.0//EN
CALSCALE:GREGORIAN
METHOD:PUBLISH
BEGIN:VEVENT
UID:69e60f7e25b57
DTSTAMP:20260420T113526Z
DTSTART:20250725T200000Z
DTEND:20250724T220000Z
LOCATION:Electric Circus
SUMMARY:HiLabs Tesla
DESCRIPTION:Erlebe die Zukunft der Musik mit einer atemberaubenden Fusion a
 us Wissenschaft und Kunst! Stell dir vor\,  wie 2000 Blitze pro Sekunde dur
 ch die Luft zucken und dabei eine Symphonie aus elektrischer Energie erscha
 ffen. Mit unseren gigantischen Teslaspulen\,  die bis zu zwei Meter große 
 Blitze erzeugen\,  verwandeln wir physikalische Phänomene in[..]\nhttps://
 auerworld-festival.de/en/events/2025-hilabs-tesla-2/
URL:https://auerworld-festival.de/en/events/2025-hilabs-tesla-2/
END:VEVENT
END:VCALENDAR